BEGIN:VCALENDAR
VERSION:2.0
PRODID:-//Itsports | Αθλητικές δραστηριότητες
CALSCALE:GREGORIAN
METHOD:PUBLISH
X-WR-CALNAME:Itsports | Αθλητικές δραστηριότητες
X-ORIGINAL-URL:https://itsports.gr/event/end-of-year-celebration-of-athlopolis-themistoklis-in-piraeus/
X-WR-CALDESC:End-of-Year Celebration of ATHLOpolis–THEMISTOKLIS in Piraeus
BEGIN:VEVENT
DTSTART:
DTEND:
SUMMARY:End-of-Year Celebration of ATHLOpolis–THEMISTOKLIS in Piraeus
DESCRIPTION:
LOCATION:
END:VEVENT
END:VCALENDAR
