BEGIN:VCALENDAR
VERSION:2.0
PRODID:-//Itsports | Αθλητικές δραστηριότητες
CALSCALE:GREGORIAN
METHOD:PUBLISH
X-WR-CALNAME:Itsports | Αθλητικές δραστηριότητες
X-ORIGINAL-URL:https://itsports.gr/event/%cf%84%ce%b5%cf%87%ce%bd%ce%bf%ce%bb%ce%bf%ce%b3%ce%af%ce%b1-%ce%ba%ce%b1%ce%b9-%ce%b1%ce%b8%ce%bb%ce%b7%cf%84%ce%b9%cf%83%ce%bc%cf%8c%cf%82-%ce%b2%ce%b5%ce%bb%cf%84%ce%b9%cf%8e%ce%bd%ce%bf%cf%85/
X-WR-CALDESC:Τεχνολογία και αθλητισμός βελτιώνουν την ποιότητα ζωής
BEGIN:VEVENT
DTSTART:
DTEND:
SUMMARY:Τεχνολογία και αθλητισμός βελτιώνουν την ποιότητα ζωής
DESCRIPTION:Η σημασία του αθλητισμού και των νέων τεχνολογικών εφαρμογών σε ποικίλες μορφές αναπηρίας.
LOCATION:
END:VEVENT
END:VCALENDAR
