BEGIN:VCALENDAR
VERSION:2.0
PRODID:-//Itsports | Αθλητικές δραστηριότητες
CALSCALE:GREGORIAN
METHOD:PUBLISH
X-WR-CALNAME:Itsports | Αθλητικές δραστηριότητες
X-ORIGINAL-URL:https://itsports.gr/event/%ce%ba%ce%b1%ce%bb%ce%b1%ce%b8%ce%bf%cf%83%cf%86%ce%b1%ce%b9%cf%81%ce%b9%ce%ba%ce%ae-%ce%b4%ce%b9%ce%b1%ce%b4%ce%b9%ce%ba%cf%84%cf%85%ce%b1%ce%ba%ce%ae-%cf%83%cf%85%ce%bd%ce%ac%ce%bd%cf%84%ce%b7%cf%83/
X-WR-CALDESC:Καλαθοσφαιρική Διαδικτυακή Συνάντηση
BEGIN:VEVENT
DTSTART:
DTEND:
SUMMARY:Καλαθοσφαιρική Διαδικτυακή Συνάντηση
DESCRIPTION:Διαδικτυακή Masterclass Καλαθοσφαιρικής
 με τον εξαίρετο επιστήμονα με πλούσιο συγγραφικό,ερευνητικό  και προπονητικό έργο, κ. Ιωάννη Τσουμπρή!
Διοργάνωση: Οι coaches:  Κ. Βουζούλιας,Δ. Κοντοστάνος, Α. Τσοβίλης!
LOCATION:
END:VEVENT
END:VCALENDAR
