BEGIN:VCALENDAR
VERSION:2.0
PRODID:-//Itsports | Αθλητικές δραστηριότητες
CALSCALE:GREGORIAN
METHOD:PUBLISH
X-WR-CALNAME:Itsports | Αθλητικές δραστηριότητες
X-ORIGINAL-URL:https://itsports.gr/event/%ce%b11-%ce%ba%ce%b1%ce%bb%ce%b1%ce%b8%ce%bf%cf%83%cf%86%ce%b1%ce%b9%cf%81%ce%b9%cf%83%ce%b7-%ce%b3%cf%85%ce%bd%ce%b1%ce%b9%ce%ba%cf%89%ce%bd/
X-WR-CALDESC:Α1 ΚΑΛΑΘΟΣΦΑΙΡΙΣΗ ΓΥΝΑΙΚΩΝ
BEGIN:VEVENT
DTSTART:
DTEND:
SUMMARY:Α1 ΚΑΛΑΘΟΣΦΑΙΡΙΣΗ ΓΥΝΑΙΚΩΝ
DESCRIPTION:
LOCATION:
END:VEVENT
END:VCALENDAR
