BEGIN:VCALENDAR
VERSION:2.0
PRODID:-//Itsports | Αθλητικές δραστηριότητες
CALSCALE:GREGORIAN
METHOD:PUBLISH
X-WR-CALNAME:Itsports | Αθλητικές δραστηριότητες
X-ORIGINAL-URL:https://itsports.gr/event/14%ce%bf-%cf%84%ce%b6%ce%ac%ce%bc%cf%80%ce%bf%ce%bb-%ce%b1%ce%b3%ce%ac%cf%80%ce%b7%cf%82_-%ce%b4%cf%81%ce%b1%cf%80%ce%b5%cf%84%cf%83%cf%8e%ce%bd%ce%b1/
X-WR-CALDESC:14ο &#8220;Τζάμπολ Αγάπης&#8221;_ Δραπετσώνα
BEGIN:VEVENT
DTSTART:
DTEND:
SUMMARY:14ο &#8220;Τζάμπολ Αγάπης&#8221;_ Δραπετσώνα
DESCRIPTION:Η πρώτη αθλητική δραστηριότητα για το φετινό καλοκαίρι, είναι το 14ο «Τζάμπολ Αγάπης». 
Το παιχνίδι θα πραγματοποιηθεί στο κλειστό γήπεδο «Αριστείδης Παπαμιχαήλ» την Πέμπτη 7 Ιουνίου 2018 στις 19:00 το απόγευμα.
LOCATION:
END:VEVENT
END:VCALENDAR
