BEGIN:VCALENDAR
VERSION:2.0
PRODID:-//Itsports | Αθλητικές δραστηριότητες
CALSCALE:GREGORIAN
METHOD:PUBLISH
X-WR-CALNAME:Itsports | Αθλητικές δραστηριότητες
X-ORIGINAL-URL:https://itsports.gr/event/%cf%87%cf%81%ce%b9%cf%83%cf%84%ce%bf%cf%85%ce%b3%ce%b5%ce%bd%ce%bd%ce%b9%ce%ac%cf%84%ce%b9%ce%ba%ce%b1-%cf%84%ce%b6%ce%ac%ce%bc%cf%80%ce%bf%ce%bb-%ce%b1%ce%b3%ce%ac%cf%80%ce%b7%cf%82-2017/
X-WR-CALDESC:Χριστουγεννιάτικα &#8220;Τζάμπολ Αγάπης&#8221; 2017
BEGIN:VEVENT
DTSTART:
DTEND:
SUMMARY:Χριστουγεννιάτικα &#8220;Τζάμπολ Αγάπης&#8221; 2017
DESCRIPTION:  Οι επόμενοι αγώνες «Τζάμπολ Αγάπης» θα πραγματοποιηθούν στο πνεύμα των Χριστουγέννων.
LOCATION:
END:VEVENT
END:VCALENDAR
