BEGIN:VCALENDAR
VERSION:2.0
PRODID:-//Itsports | Αθλητικές δραστηριότητες
CALSCALE:GREGORIAN
METHOD:PUBLISH
X-WR-CALNAME:Itsports | Αθλητικές δραστηριότητες
X-ORIGINAL-URL:https://itsports.gr/event/4o-%cf%84%ce%b6%ce%ac%ce%bc%cf%80%ce%bf%ce%bb-%ce%b1%ce%b3%ce%ac%cf%80%ce%b7%cf%82-%ce%b5%cf%81%ce%bc%ce%bf%cf%8d%cf%80%ce%bf%ce%bb%ce%b7-%cf%83%cf%8d%cf%81%ce%bf%cf%85-2017/
X-WR-CALDESC:4o &#8220;Τζάμπολ Αγάπης&#8221;. Ερμούπολη Σύρου 2017
BEGIN:VEVENT
DTSTART:
DTEND:
SUMMARY:4o &#8220;Τζάμπολ Αγάπης&#8221;. Ερμούπολη Σύρου 2017
DESCRIPTION:Στην Ερμούπολη της Σύρου λοιπόν, το 4ο «Τζάμπολ Αγάπης» θα πραγματοποιηθεί για τα παιδιά του Ειδικού Δημοτικού Σχολείου Ερμούπολης.
LOCATION:
END:VEVENT
END:VCALENDAR
