BEGIN:VCALENDAR
VERSION:2.0
PRODID:-//Itsports | Αθλητικές δραστηριότητες
CALSCALE:GREGORIAN
METHOD:PUBLISH
X-WR-CALNAME:Itsports | Αθλητικές δραστηριότητες
X-ORIGINAL-URL:https://itsports.gr/event/%ce%b4%ce%b9%ce%b1%cf%84%cf%81%ce%bf%cf%86%ce%ae-%cf%84%cf%89%ce%bd-%cf%80%ce%b1%ce%b9%ce%b4%ce%b9%cf%8e%ce%bd-%cf%83%cf%84%ce%b9%cf%82-%ce%b1%ce%bd%ce%b1%cf%80%cf%84%cf%85%ce%be%ce%b9%ce%b1%ce%ba/
X-WR-CALDESC:Διατροφή των παιδιών στις αναπτυξιακές ηλικίες
BEGIN:VEVENT
DTSTART:
DTEND:
SUMMARY:Διατροφή των παιδιών στις αναπτυξιακές ηλικίες
DESCRIPTION:Τη Κυριακή 12/3/2017 στις 11.00 στο Κλειστό Β΄ Προπονητήριο του Α.Ο.Ν.Σ. Ο ΜΙΛΩΝ στη Νέα Σμύρνη, θα πραγματοποιηθεί διάλεξη με θέμα : "Διατροφή των παιδιών στις αναπτυξιακές ηλικίες και η επιλογή των τροφών στον Αθλητισμό". 
Ομιλητής Θεμιστοκλής Παυλόπουλος Αθλητικός διατροφολόγος - Εργοφυσιολόγος (MMedSci).
LOCATION:
END:VEVENT
END:VCALENDAR
