BEGIN:VCALENDAR
VERSION:2.0
PRODID:-//Itsports | Αθλητικές δραστηριότητες
CALSCALE:GREGORIAN
METHOD:PUBLISH
X-WR-CALNAME:Itsports | Αθλητικές δραστηριότητες
X-ORIGINAL-URL:https://itsports.gr/event/3%ce%bf-%cf%84%ce%b6%ce%ac%ce%bc%cf%80%ce%bf%ce%bb-%ce%b1%ce%b3%ce%ac%cf%80%ce%b7%cf%82-2/
X-WR-CALDESC:3ο &#8220;Τζάμπολ Αγάπης&#8221;
BEGIN:VEVENT
DTSTART:
DTEND:
SUMMARY:3ο &#8220;Τζάμπολ Αγάπης&#8221;
DESCRIPTION:Οι ομάδες καλαθοσφαίρισης ΑΟΦ ΠΟΡΦΥΡΑΣ, ΠΕΙΡΑΪΚΟΣ ΣΥΝΔΕΣΜΟΣ, ΕΡΜΗΣ ΠΕΙΡΑΙΑ, ΑΤΡΟΜΗΤΟΣ ΠΕΙΡΑΙΑ & ΦΟΙΝΙΚΑΣ ΠΕΙΡΑΙΑ για δεύτερη συνεχή χρονιά, συμμετέχουν στο «3ο Τζάμπολ Αγάπης».
LOCATION:
END:VEVENT
END:VCALENDAR
