BEGIN:VCALENDAR
VERSION:2.0
PRODID:-//Itsports | Αθλητικές δραστηριότητες
CALSCALE:GREGORIAN
METHOD:PUBLISH
X-WR-CALNAME:Itsports | Αθλητικές δραστηριότητες
X-ORIGINAL-URL:https://itsports.gr/event/%ef%bb%bf%ce%b7%ce%bc%ce%b5%cf%81%ce%b9%ce%b4%ce%b1-%ce%be%ce%b9%cf%86%ce%b1%cf%83%ce%ba%ce%b9%ce%b1%cf%83/
X-WR-CALDESC:﻿ΗΜΕΡΙΔΑ ΞΙΦΑΣΚΙΑΣ
BEGIN:VEVENT
DTSTART:
DTEND:
SUMMARY:﻿ΗΜΕΡΙΔΑ ΞΙΦΑΣΚΙΑΣ
DESCRIPTION:   Οι μικροί αθλητές και αθλήτριες της Ξιφασκίας του Εκπ. Οργ. "ΘΕΜΙΣΤΟΚΛΗΣ", παρουσίασαν σε μία γιορτή-ημερίδα, τις ικανότητες τους, με κοινό τους γονείς και τα συγγενικά τους πρόσωπα.
LOCATION:
END:VEVENT
END:VCALENDAR
